BEGIN:VCALENDAR
VERSION:2.0
METHOD:PUBLISH
PRODID:-//Event-List//NONSGML Event-List 5.10.1//DE
X-WR-TIMEZONE:Europe/Berlin
CALSCALE:GREGORIAN
BEGIN:VTIMEZONE
TZID:Europe/Berlin
BEGIN:DAYLIGHT
TZOFFSETFROM:+0100
TZOFFSETTO:+0200
DTSTART:19810329T020000
RRULE:FREQ=YEARLY;BYMONTH=3;BYDAY=-1SU
TZNAME:CEST
END:DAYLIGHT
BEGIN:STANDARD
TZOFFSETFROM:+0200
TZOFFSETTO:+0100
DTSTART:19961027T030000
RRULE:FREQ=YEARLY;BYMONTH=10;BYDAY=-1SU
TZNAME:CET
END:STANDARD
END:VTIMEZONE
BEGIN:VEVENT
DTSTAMP:20130620T225308Z
DTSTART;VALUE=DATE:20130622
DTEND;VALUE=DATE:20130629
UID:537@www.feuerwehr-jerrishoe.de/kalender
CLASS:PUBLIC
SUMMARY:Kreisjugendfeuerwehrzeltlager
DESCRIPTION:Treffen 07:45 Uhr am Gerätehaus
CONTACT:Einsatzkleidung / Zivil\, Betreuung: Andrea & Malte E
LOCATION:Otterndorf
CATEGORIES:Jugendfeuerwehr
END:VEVENT
END:VCALENDAR
