BEGIN:VCALENDAR
VERSION:2.0
METHOD:PUBLISH
PRODID:-//Event-List//NONSGML Event-List 5.10.1//DE
X-WR-TIMEZONE:Europe/Berlin
CALSCALE:GREGORIAN
BEGIN:VTIMEZONE
TZID:Europe/Berlin
BEGIN:DAYLIGHT
TZOFFSETFROM:+0100
TZOFFSETTO:+0200
DTSTART:19810329T020000
RRULE:FREQ=YEARLY;BYMONTH=3;BYDAY=-1SU
TZNAME:CEST
END:DAYLIGHT
BEGIN:STANDARD
TZOFFSETFROM:+0200
TZOFFSETTO:+0100
DTSTART:19961027T030000
RRULE:FREQ=YEARLY;BYMONTH=10;BYDAY=-1SU
TZNAME:CET
END:STANDARD
END:VTIMEZONE
BEGIN:VEVENT
DTSTAMP:20150221T201257Z
DTSTART;TZID=Europe/Berlin:20150418T123000
DTEND;TZID=Europe/Berlin:20150418T123000
UID:727@www.feuerwehr-jerrishoe.de/kalender
CLASS:PUBLIC
SUMMARY:Fahrt ins Blaue (Frühlingsmarkt)
DESCRIPTION:Nach Anmeldung
CATEGORIES:Termine für alle Leute,Feuerwehr
END:VEVENT
END:VCALENDAR
